BEGIN:VCALENDAR
VERSION:2.0
PRODID:-//ChamberMaster//Event Calendar 2.0//EN
METHOD:PUBLISH
X-PUBLISHED-TTL:P1H
REFRESH-INTERVAL:P1H
CALSCALE:GREGORIAN
BEGIN:VTIMEZONE
TZID:America/New_York
BEGIN:DAYLIGHT
RRULE:FREQ=YEARLY;BYMONTH=3;BYDAY=2SU
DTSTART:20070101T000000
TZOFFSETFROM:-0500
TZOFFSETTO:-0400
TZNAME:Eastern Daylight Time
END:DAYLIGHT
BEGIN:STANDARD
RRULE:FREQ=YEARLY;BYMONTH=11;BYDAY=1SU
DTSTART:20070101T000000
TZOFFSETFROM:-0400
TZOFFSETTO:-0500
TZNAME:Eastern Standard Time
END:STANDARD
END:VTIMEZONE
BEGIN:VEVENT
DTSTART;TZID=America/New_York:20260816T140000
DTEND;TZID=America/New_York:20260816T160000
X-MICROSOFT-CDO-ALLDAYEVENT:FALSE
SUMMARY:Film Screening “Never Not Yours” + Meet the Director
DESCRIPTION:FREE event.  2025 Best Feature Film Award winner shown at the Village Green in Cashiers.  The directors will be on hand to discuss the film.
X-ALT-DESC;FMTTYPE=text/html:FREE event.  2025 Best Feature Film Award winner shown at the Village Green in Cashiers.  The directors will be on hand to discuss the film.
LOCATION:160 Frank Allen Rd. Cashiers
UID:e.3883.1442842
SEQUENCE:3
DTSTAMP:20260422T011159Z
URL:https://business.cashiersareachamber.com/events/Details/film-screening-never-not-yours-meet-the-director-1708970?sourceTypeId=Hub
END:VEVENT
END:VCALENDAR
