BEGIN:VCALENDAR
VERSION:2.0
PRODID:-//ChamberMaster//Event Calendar 2.0//EN
METHOD:PUBLISH
X-PUBLISHED-TTL:P1H
REFRESH-INTERVAL:P1H
CALSCALE:GREGORIAN
BEGIN:VTIMEZONE
TZID:America/New_York
BEGIN:DAYLIGHT
RRULE:FREQ=YEARLY;BYMONTH=3;BYDAY=2SU
DTSTART:20070101T000000
TZOFFSETFROM:-0500
TZOFFSETTO:-0400
TZNAME:Eastern Daylight Time
END:DAYLIGHT
BEGIN:STANDARD
RRULE:FREQ=YEARLY;BYMONTH=11;BYDAY=1SU
DTSTART:20070101T000000
TZOFFSETFROM:-0400
TZOFFSETTO:-0500
TZNAME:Eastern Standard Time
END:STANDARD
END:VTIMEZONE
BEGIN:VEVENT
DTSTART;TZID=America/New_York:20260815T160000
DTEND;TZID=America/New_York:20260815T193000
X-MICROSOFT-CDO-ALLDAYEVENT:FALSE
SUMMARY:Film Screening: “The Gardener” + Walk in the Garden Soiree
DESCRIPTION:A screening of The Gardener with a Q & A with the director.  Then visit the real garden where the film was shot.  Transportation provided to and from the PAC.
X-ALT-DESC;FMTTYPE=text/html:A screening of The Gardener with a Q & A with the director.  Then visit the real garden where the film was shot.  Transportation provided to and from the PAC.
LOCATION:507 Chestnut St Highlands
UID:e.3883.1442829
SEQUENCE:3
DTSTAMP:20260422T011159Z
URL:https://business.cashiersareachamber.com/events/Details/film-screening-the-gardener-walk-in-the-garden-soiree-1708957?sourceTypeId=Hub
END:VEVENT
END:VCALENDAR
