BEGIN:VCALENDAR
VERSION:2.0
PRODID:-//ChamberMaster//Event Calendar 2.0//EN
METHOD:PUBLISH
X-PUBLISHED-TTL:P1H
REFRESH-INTERVAL:P1H
CALSCALE:GREGORIAN
BEGIN:VTIMEZONE
TZID:America/New_York
BEGIN:DAYLIGHT
RRULE:FREQ=YEARLY;BYMONTH=3;BYDAY=2SU
DTSTART:20070101T000000
TZOFFSETFROM:-0500
TZOFFSETTO:-0400
TZNAME:Eastern Daylight Time
END:DAYLIGHT
BEGIN:STANDARD
RRULE:FREQ=YEARLY;BYMONTH=11;BYDAY=1SU
DTSTART:20070101T000000
TZOFFSETFROM:-0400
TZOFFSETTO:-0500
TZNAME:Eastern Standard Time
END:STANDARD
END:VTIMEZONE
BEGIN:VEVENT
DTSTART;TZID=America/New_York:20260620T120000
DTEND;TZID=America/New_York:20260620T180000
X-MICROSOFT-CDO-ALLDAYEVENT:FALSE
SUMMARY:Film Screening “Trailer Mix” + Meet the Director
DESCRIPTION:2025 Audience Choice Award winner will be shown at the Village Green in Cashiers and at the PAC in Highlands. The director and filmmaker Glenn Sweitzer will be on hand to discuss the film and answer questions.  The event is FREE.12pm at the Village Green4pm at The PAC
X-ALT-DESC;FMTTYPE=text/html:<!DOCTYPE html><html><head><title></title></head><body aria-disabled="false"><p>2025 Audience Choice Award winner will be shown at the Village Green in Cashiers and at the PAC in Highlands. The director and filmmaker Glenn Sweitzer will be on hand to discuss the film and answer questions. &nbsp\;The event is FREE.</p><p>12pm at the Village Green</p><p>4pm at The PAC</p></body></html>
LOCATION:
UID:e.3883.1442820
SEQUENCE:3
DTSTAMP:20260422T010708Z
URL:https://business.cashiersareachamber.com/events/Details/film-screening-trailer-mix-meet-the-director-1708949?sourceTypeId=Hub
END:VEVENT
END:VCALENDAR
